BEGIN:VCALENDAR
VERSION:2.0
PRODID:-//Lincoln-Siedlung - ECPv6.15.20//NONSGML v1.0//EN
CALSCALE:GREGORIAN
METHOD:PUBLISH
X-WR-CALNAME:Lincoln-Siedlung
X-ORIGINAL-URL:https://www.lincoln-darmstadt.de
X-WR-CALDESC:Veranstaltungen für Lincoln-Siedlung
REFRESH-INTERVAL;VALUE=DURATION:PT1H
X-Robots-Tag:noindex
X-PUBLISHED-TTL:PT1H
BEGIN:VTIMEZONE
TZID:Europe/Berlin
BEGIN:DAYLIGHT
TZOFFSETFROM:+0100
TZOFFSETTO:+0200
TZNAME:CEST
DTSTART:20250330T010000
END:DAYLIGHT
BEGIN:STANDARD
TZOFFSETFROM:+0200
TZOFFSETTO:+0100
TZNAME:CET
DTSTART:20251026T010000
END:STANDARD
BEGIN:DAYLIGHT
TZOFFSETFROM:+0100
TZOFFSETTO:+0200
TZNAME:CEST
DTSTART:20260329T010000
END:DAYLIGHT
BEGIN:STANDARD
TZOFFSETFROM:+0200
TZOFFSETTO:+0100
TZNAME:CET
DTSTART:20261025T010000
END:STANDARD
BEGIN:DAYLIGHT
TZOFFSETFROM:+0100
TZOFFSETTO:+0200
TZNAME:CEST
DTSTART:20270328T010000
END:DAYLIGHT
BEGIN:STANDARD
TZOFFSETFROM:+0200
TZOFFSETTO:+0100
TZNAME:CET
DTSTART:20271031T010000
END:STANDARD
END:VTIMEZONE
BEGIN:VEVENT
DTSTART;TZID=Europe/Berlin:20260421T093000
DTEND;TZID=Europe/Berlin:20260421T113000
DTSTAMP:20260421T153755
CREATED:20260112T092153Z
LAST-MODIFIED:20260112T092153Z
UID:6346-1776763800-1776771000@www.lincoln-darmstadt.de
SUMMARY:Interkultureller Frauentreff
DESCRIPTION:Du möchtest dich regelmäßig mit Frauen treffen? Frauen\, die verschiedene Sprachen sprechen und unterschiedliche Erfahrungen mitbringen? \nDer Interkulturelle Frauentreff ist ein solcher Treffpunkt. Die Themen und Aktivitäten richten sich nach den Wünschen der Gruppe. Es darf auch kreativ werden.
URL:https://www.lincoln-darmstadt.de/event/interkultureller-frauentreff-13/
LOCATION:Cafe Lincoln\, Mahalia-Jackson-Straße 1A\, Darmstadt\, 64285
END:VEVENT
END:VCALENDAR