BEGIN:VCALENDAR
VERSION:2.0
PRODID:-//Lincoln-Siedlung - ECPv6.15.20//NONSGML v1.0//EN
CALSCALE:GREGORIAN
METHOD:PUBLISH
X-WR-CALNAME:Lincoln-Siedlung
X-ORIGINAL-URL:https://www.lincoln-darmstadt.de
X-WR-CALDESC:Veranstaltungen für Lincoln-Siedlung
REFRESH-INTERVAL;VALUE=DURATION:PT1H
X-Robots-Tag:noindex
X-PUBLISHED-TTL:PT1H
BEGIN:VTIMEZONE
TZID:Europe/Berlin
BEGIN:DAYLIGHT
TZOFFSETFROM:+0100
TZOFFSETTO:+0200
TZNAME:CEST
DTSTART:20250330T010000
END:DAYLIGHT
BEGIN:STANDARD
TZOFFSETFROM:+0200
TZOFFSETTO:+0100
TZNAME:CET
DTSTART:20251026T010000
END:STANDARD
BEGIN:DAYLIGHT
TZOFFSETFROM:+0100
TZOFFSETTO:+0200
TZNAME:CEST
DTSTART:20260329T010000
END:DAYLIGHT
BEGIN:STANDARD
TZOFFSETFROM:+0200
TZOFFSETTO:+0100
TZNAME:CET
DTSTART:20261025T010000
END:STANDARD
BEGIN:DAYLIGHT
TZOFFSETFROM:+0100
TZOFFSETTO:+0200
TZNAME:CEST
DTSTART:20270328T010000
END:DAYLIGHT
BEGIN:STANDARD
TZOFFSETFROM:+0200
TZOFFSETTO:+0100
TZNAME:CET
DTSTART:20271031T010000
END:STANDARD
END:VTIMEZONE
BEGIN:VEVENT
DTSTART;TZID=Europe/Berlin:20260423T140000
DTEND;TZID=Europe/Berlin:20260423T170000
DTSTAMP:20260423T122121
CREATED:20260314T053346Z
LAST-MODIFIED:20260314T055016Z
UID:6634-1776952800-1776963600@www.lincoln-darmstadt.de
SUMMARY:Für Kinder und Jugendliche: Spielebus des BDKJ kommt
DESCRIPTION:Der Spielebus des BDKJ (Bund der Deutschen Katholischen Jugend) ist in unserem Viertel und bringt viele Gesellschaftsspiele\, die du direkt vor Ort spielen oder für zu Hause ausleihen kannst! Alle Kinder von 3 bis 15 Jahren sind herzlich eingeladen! \nAuf der Webseite www.kinderspieletest.de/bdkj-spielebus gibt es alle Termine des Buses in Darmstadt und eine Bibliothek der etwa 240 Gesellschaftsspiele\, die am Bus ausgeliehen oder direkt dort gespielt werden können. \nBei schlechtem Wetter findet die Veranstaltung im Rosa-Parks-Saal statt.
URL:https://www.lincoln-darmstadt.de/event/fuer-kinder-und-jugendliche-spielebus-des-bdkj-kommt/
LOCATION:Quartierpark an den Tischtennisplatten\, Mahalia-Jackson-Straße 1\, Darmstadt\, 64285
ORGANIZER;CN="BDKJ":MAILTO:mail@bdkj-darmstadt.de
END:VEVENT
BEGIN:VEVENT
DTSTART;TZID=Europe/Berlin:20260423T160000
DTEND;TZID=Europe/Berlin:20260423T170000
DTSTAMP:20260423T122121
CREATED:20251124T100307Z
LAST-MODIFIED:20251124T100307Z
UID:6060-1776960000-1776963600@www.lincoln-darmstadt.de
SUMMARY:Alt werden auf Lincoln
DESCRIPTION:Gemeinsam alt werden auf Lincoln? Dann komm zu uns in die Gruppe „Alt werden auf Lincoln“. \nMitmachen können alle\, die Lust haben\, sich zu engagieren\, etwas anzubieten haben\, die bei einem Nachbarschaftstreff helfen wollen und vieles mehr. \nKM_C3350i Q76
URL:https://www.lincoln-darmstadt.de/event/alt-werden-auf-lincoln-14/
LOCATION:Quartierwerkstatt\, Mahalia-Jackson-Straße 1c\, Darmstadt\, 64285
END:VEVENT
END:VCALENDAR