BEGIN:VCALENDAR
VERSION:2.0
PRODID:-//Lincoln-Siedlung - ECPv6.15.20//NONSGML v1.0//EN
CALSCALE:GREGORIAN
METHOD:PUBLISH
X-ORIGINAL-URL:https://www.lincoln-darmstadt.de
X-WR-CALDESC:Veranstaltungen für Lincoln-Siedlung
REFRESH-INTERVAL;VALUE=DURATION:PT1H
X-Robots-Tag:noindex
X-PUBLISHED-TTL:PT1H
BEGIN:VTIMEZONE
TZID:Europe/Berlin
BEGIN:DAYLIGHT
TZOFFSETFROM:+0100
TZOFFSETTO:+0200
TZNAME:CEST
DTSTART:20240331T010000
END:DAYLIGHT
BEGIN:STANDARD
TZOFFSETFROM:+0200
TZOFFSETTO:+0100
TZNAME:CET
DTSTART:20241027T010000
END:STANDARD
BEGIN:DAYLIGHT
TZOFFSETFROM:+0100
TZOFFSETTO:+0200
TZNAME:CEST
DTSTART:20250330T010000
END:DAYLIGHT
BEGIN:STANDARD
TZOFFSETFROM:+0200
TZOFFSETTO:+0100
TZNAME:CET
DTSTART:20251026T010000
END:STANDARD
BEGIN:DAYLIGHT
TZOFFSETFROM:+0100
TZOFFSETTO:+0200
TZNAME:CEST
DTSTART:20260329T010000
END:DAYLIGHT
BEGIN:STANDARD
TZOFFSETFROM:+0200
TZOFFSETTO:+0100
TZNAME:CET
DTSTART:20261025T010000
END:STANDARD
END:VTIMEZONE
BEGIN:VEVENT
DTSTART;TZID=Europe/Berlin:20250604T150000
DTEND;TZID=Europe/Berlin:20250604T163000
DTSTAMP:20260424T002004
CREATED:20250407T154117Z
LAST-MODIFIED:20250407T161209Z
UID:5133-1749049200-1749054600@www.lincoln-darmstadt.de
SUMMARY:Quartiermanagement unterwegs auf Lincoln
DESCRIPTION:Jeden 1. und 3. Mittwoch im Monat ist das Quartiermanagement unterwegs und trifft Menschen dort\, wo sie wohnen\, spielen und miteinander reden. \n \n 
URL:https://www.lincoln-darmstadt.de/event/quartiermanagement-unterwegs-auf-lincoln-4/
LOCATION:Quartierpark an den Tischtennisplatten\, Mahalia-Jackson-Straße 1\, Darmstadt\, 64285
ORGANIZER;CN="Quartiermanagement":MAILTO:quartiermanagement@lincoln-darmstadt.de
END:VEVENT
BEGIN:VEVENT
DTSTART;TZID=Europe/Berlin:20250618T143000
DTEND;TZID=Europe/Berlin:20250618T163000
DTSTAMP:20260424T002004
CREATED:20250407T154641Z
LAST-MODIFIED:20250407T154641Z
UID:5139-1750257000-1750264200@www.lincoln-darmstadt.de
SUMMARY:Quartiermanagement unterwegs auf Lincoln
DESCRIPTION:Jeden 1. und 3. Mittwoch im Monat ist das Quartiermanagement unterwegs und trifft Menschen dort\, wo sie wohnen\, spielen und miteinander reden. \n \n 
URL:https://www.lincoln-darmstadt.de/event/quartiermanagement-unterwegs-auf-lincoln-6/
LOCATION:Innenhof Noackhöfe\, Heidelberger Straße 209 - 225; Noackstraße 2 - 10\, Darmstadt\, 64285
ORGANIZER;CN="Quartiermanagement":MAILTO:quartiermanagement@lincoln-darmstadt.de
END:VEVENT
END:VCALENDAR